View In:
ArcGIS JavaScript
ArcGIS Online Map Viewer
ArcGIS Earth
Service Description: mbes/NorthSouth_Aspect_from_162_163_clip
Name: mbes/NorthSouth_Aspect_from_162_163_clip
Description:
Single Fused Map Cache: false
Extent:
XMin: 446270.3898169648
YMin: 3058138.980590942
XMax: 455973.6199077252
YMax: 3067040.88890597
Spatial Reference: 26915
(26915)
LatestVCSWkid(0)
Initial Extent:
XMin: 446270.3898169648
YMin: 3058138.980590942
XMax: 455973.6199077252
YMax: 3067040.88890597
Spatial Reference: 26915
(26915)
LatestVCSWkid(0)
Full Extent:
XMin: 446270.3898169648
YMin: 3058138.980590942
XMax: 455973.6199077252
YMax: 3067040.88890597
Spatial Reference: 26915
(26915)
LatestVCSWkid(0)
Pixel Size X: 4.351224255946365
Pixel Size Y: 4.433221272424334
Band Count: 1
Pixel Type: F32
RasterFunction Infos: {"rasterFunctionInfos": [{
"name": "None",
"description": "",
"help": ""
}]}
Mensuration Capabilities: Basic
Inspection Capabilities:
Has Histograms: false
Has Colormap: false
Has Multi Dimensions : false
Rendering Rule:
Min Scale: 0
Max Scale: 0
Resampling: false
Copyright Text:
Service Data Type: esriImageServiceDataTypeGeneric
Min Values: -1
Max Values: 1
Mean Values: -9999
Standard Deviation Values: -9999
Object ID Field:
Fields:
None
Default Mosaic Method: Center
Allowed Mosaic Methods:
SortField:
SortValue: null
Mosaic Operator: First
Default Compression Quality: 75
Default Resampling Method: Bilinear
Max Record Count: null
Max Image Height: 4100
Max Image Width: 15000
Max Download Image Count: null
Max Mosaic Image Count: null
Allow Raster Function: true
Allow Copy: true
Allow Analysis: true
Allow Compute TiePoints: false
Supports Statistics: false
Supports Advanced Queries: false
Use StandardizedQueries: true
Raster Type Infos:
Name: Raster Dataset
Description: Supports all ArcGIS Raster Datasets
Help:
Has Raster Attribute Table: false
Edit Fields Info: null
Ownership Based AccessControl For Rasters: null
Child Resources:
Info
Statistics
Key Properties
Legend
Raster Function Infos
Supported Operations:
Export Image
Identify
Measure
Compute Histograms
Compute Statistics Histograms
Get Samples
Compute Class Statistics
Query Boundary
Compute Pixel Location
Compute Angles
Validate
Project