{
 "currentVersion": 11.4,
 "serviceDescription": "mbes/NorthSouth_Aspect_from_162_163_clip",
 "name": "mbes/NorthSouth_Aspect_from_162_163_clip",
 "description": "",
 "extent": {
  "xmin": 446270.3898169648,
  "ymin": 3058138.980590942,
  "xmax": 455973.6199077252,
  "ymax": 3067040.88890597,
  "spatialReference": {
   "wkid": 26915,
   "latestWkid": 26915
  }
 },
 "initialExtent": {
  "xmin": 446270.3898169648,
  "ymin": 3058138.980590942,
  "xmax": 455973.6199077252,
  "ymax": 3067040.88890597,
  "spatialReference": {
   "wkid": 26915,
   "latestWkid": 26915
  }
 },
 "fullExtent": {
  "xmin": 446270.3898169648,
  "ymin": 3058138.980590942,
  "xmax": 455973.6199077252,
  "ymax": 3067040.88890597,
  "spatialReference": {
   "wkid": 26915,
   "latestWkid": 26915
  }
 },
 "sortableFields": "",
 "bandCount": 1,
 "pixelType": "F32",
 "minValues": [
  -1
 ],
 "maxValues": [
  1
 ],
 "meanValues": [
  -9999
 ],
 "stdvValues": [
  -9999
 ],
 "hasMultidimensions": false,
 "pixelSizeX": 4.351224255946365,
 "pixelSizeY": 4.433221272424334,
 "meanPixelSize": 4.39222276418535,
 "datasetFormat": "TIFF",
 "uncompressedSize": 17911360,
 "blockWidth": 2230,
 "blockHeight": 1,
 "compressionType": "LZW",
 "bandNames": [
  "northness"
 ],
 "allowCopy": true,
 "allowAnalysis": true,
 "itemAccess": false,
 "inspectionCapabilities": "",
 "noDataValue": "NaN",
 "noDataValues": [
  "NaN"
 ],
 "minPixelSize": 0,
 "maxPixelSize": 0,
 "copyrightText": "",
 "serviceDataType": "esriImageServiceDataTypeGeneric",
 "serviceSourceType": "esriImageServiceSourceTypeDataset",
 "objectIdField": "",
 "fields": [],
 "capabilities": "Mensuration,Image,Metadata",
 "defaultMosaicMethod": "Center",
 "allowedMosaicMethods": "",
 "sortField": "",
 "sortValue": null,
 "sortAscending": true,
 "mosaicOperator": "First",
 "defaultCompressionQuality": 75,
 "defaultResamplingMethod": "Bilinear",
 "maxImageHeight": 4100,
 "maxImageWidth": 15000,
 "allowRasterFunction": true,
 "rasterFunctionInfos": [
  {
   "name": "None",
   "description": "",
   "help": ""
  }
 ],
 "rasterTypeInfos": [
  {
   "name": "Raster Dataset",
   "description": "Supports all ArcGIS Raster Datasets",
   "help": ""
  }
 ],
 "mensurationCapabilities": "Basic",
 "hasHistograms": false,
 "hasColormap": false,
 "hasRasterAttributeTable": false,
 "minScale": 0,
 "maxScale": 0,
 "exportTilesAllowed": false,
 "supportsStatistics": false,
 "supportsAdvancedQueries": false,
 "editFieldsInfo": null,
 "ownershipBasedAccessControlForRasters": null,
 "allowComputeTiePoints": false,
 "useStandardizedQueries": true,
 "advancedQueryCapabilities": {
  "useStandardizedQueries": true,
  "supportsStatistics": false,
  "supportsOrderBy": false,
  "supportsDistinct": false,
  "supportsPagination": false
 },
 "spatialReference": {
  "wkid": 26915,
  "latestWkid": 26915
 },
 "resampling": false
}
