View In:
ArcGIS JavaScript
ArcGIS Online Map Viewer
ArcGIS Earth
Service Description: mbes/762201_DN170_133W_4m
Name: mbes/762201_DN170_133W_4m
Description:
Single Fused Map Cache: false
Extent:
XMin: 617250.0
YMin: 3101134.0
XMax: 637810.0
YMax: 3110806.0
Spatial Reference: 32615
(32615)
LatestVCSWkid(0)
Initial Extent:
XMin: 617250.0
YMin: 3101134.0
XMax: 637810.0
YMax: 3110806.0
Spatial Reference: 32615
(32615)
LatestVCSWkid(0)
Full Extent:
XMin: 617250.0
YMin: 3101134.0
XMax: 637810.0
YMax: 3110806.0
Spatial Reference: 32615
(32615)
LatestVCSWkid(0)
Pixel Size X: 4.0
Pixel Size Y: 4.0
Band Count: 1
Pixel Type: F32
RasterFunction Infos: {"rasterFunctionInfos": [{
"name": "None",
"description": "",
"help": ""
}]}
Mensuration Capabilities: Basic
Inspection Capabilities:
Has Histograms: true
Has Colormap: false
Has Multi Dimensions : false
Rendering Rule:
Min Scale: 0
Max Scale: 0
Resampling: false
Copyright Text:
Service Data Type: esriImageServiceDataTypeGeneric
Min Values: -112.23899841309
Max Values: -94.397003173828
Mean Values: -100.14277749755
Standard Deviation Values: 3.0450218707854
Object ID Field:
Fields:
None
Default Mosaic Method: Center
Allowed Mosaic Methods:
SortField:
SortValue: null
Mosaic Operator: First
Default Compression Quality: 75
Default Resampling Method: Bilinear
Max Record Count: null
Max Image Height: 4100
Max Image Width: 15000
Max Download Image Count: null
Max Mosaic Image Count: null
Allow Raster Function: true
Allow Copy: true
Allow Analysis: true
Allow Compute TiePoints: false
Supports Statistics: false
Supports Advanced Queries: false
Use StandardizedQueries: true
Raster Type Infos:
Name: Raster Dataset
Description: Supports all ArcGIS Raster Datasets
Help:
Has Raster Attribute Table: false
Edit Fields Info: null
Ownership Based AccessControl For Rasters: null
Child Resources:
Info
Histograms
Statistics
Key Properties
Legend
Raster Function Infos
Supported Operations:
Export Image
Identify
Measure
Compute Histograms
Compute Statistics Histograms
Get Samples
Compute Class Statistics
Query Boundary
Compute Pixel Location
Compute Angles
Validate
Project