View In:
ArcGIS JavaScript
ArcGIS Online Map Viewer
ArcGIS Earth
Service Description: NOAA Fisheries and its partners conduct fisheries-independent surveys in 8 regions in the US (Northeast, Southeast, Gulf of Mexico, West Coast, Gulf of Alaska, Bering Sea, Aleutian Islands, Hawai’i Islands). These surveys are designed to collect information on the seasonal distribution, relative abundance, and biodiversity of fish and invertebrate species found in U.S. waters. Over 400 species of fish and invertebrates have been identified in these surveys.
Name: DisMAP/SEUS_SPR_IDW_20240701
Description: NOAA Fisheries and its partners conduct fisheries-independent surveys in 8 regions in the US (Northeast, Southeast, Gulf of Mexico, West Coast, Gulf of Alaska, Bering Sea, Aleutian Islands, Hawai’i Islands). These surveys are designed to collect information on the seasonal distribution, relative abundance, and biodiversity of fish and invertebrate species found in U.S. waters. Over 400 species of fish and invertebrates have been identified in these surveys.
Single Fused Map Cache: false
Extent:
XMin: 456350.98979999963
YMin: 3172870.069
XMax: 1002350.9897999996
YMax: 3912870.069
Spatial Reference: 102386
(6346)
LatestVCSWkid(0)
Initial Extent:
XMin: 456350.98979999963
YMin: 3172870.069
XMax: 1002350.9897999996
YMax: 3912870.069
Spatial Reference: 102386
(6346)
LatestVCSWkid(0)
Full Extent:
XMin: 456350.98979999963
YMin: 3172870.069
XMax: 1002350.9897999996
YMax: 3912870.069
Spatial Reference: 102386
(6346)
LatestVCSWkid(0)
Time Info:
Start Time Field: StdTime
End Time Field: StdTime
Time Extent:
[1989/01/01 12:00:00 UTC, 2022/01/01 12:00:00 UTC]
Time Reference:
N/A
Pixel Size X: 2000.0
Pixel Size Y: 2000.0
Band Count: 1
Pixel Type: F32
RasterFunction Infos: {"rasterFunctionInfos": [{
"name": "None",
"description": "Make a Raster or Raster Dataset into a Function Raster Dataset.",
"help": ""
}]}
Mensuration Capabilities: Basic
Inspection Capabilities:
Has Histograms: true
Has Colormap: false
Has Multi Dimensions : true
Rendering Rule:
Min Scale: 0
Max Scale: 0
Resampling: false
Copyright Text: These data were produced by NMFS OST.
Service Data Type: esriImageServiceDataTypeGeneric
Min Values: 0
Max Values: 1.4896284341812134
Mean Values: 0.018841083436674892
Standard Deviation Values: 0.06339079716287573
Object ID Field:
Fields:
None
Default Mosaic Method: Center
Allowed Mosaic Methods:
SortField:
SortValue: null
Mosaic Operator: First
Default Compression Quality: 75
Default Resampling Method: Bilinear
Max Record Count: null
Max Image Height: 4100
Max Image Width: 15000
Max Download Image Count: null
Max Mosaic Image Count: null
Allow Raster Function: true
Allow Copy: true
Allow Analysis: true
Allow Compute TiePoints: false
Supports Statistics: false
Supports Advanced Queries: false
Use StandardizedQueries: true
Raster Type Infos:
Name: Raster Dataset
Description: Supports all ArcGIS Raster Datasets
Help:
Has Raster Attribute Table: false
Edit Fields Info: null
Ownership Based AccessControl For Rasters: null
Child Resources:
Info
Histograms
Statistics
Key Properties
Legend
Raster Function Infos
Multidimensional Info
Slices
Supported Operations:
Export Image
Identify
Measure
Compute Histograms
Compute Statistics Histograms
Get Samples
Compute Class Statistics
Query Boundary
Compute Pixel Location
Compute Angles
Validate
Project