View In:
ArcGIS JavaScript
ArcGIS Online Map Viewer
ArcGIS Earth
Service Description: NOAA Fisheries and its partners conduct fisheries-independent surveys in 8 regions in the US (Northeast, Southeast, Gulf of Mexico, West Coast, Gulf of Alaska, Bering Sea, Aleutian Islands, Hawai’i Islands). These surveys are designed to collect information on the seasonal distribution, relative abundance, and biodiversity of fish and invertebrate species found in U.S. waters. Over 400 species of fish and invertebrates have been identified in these surveys.
Name: DisMAP/NEUS_SPR_IDW_20260201
Description: NOAA Fisheries and its partners conduct fisheries-independent surveys in 8 regions in the US (Northeast, Southeast, Gulf of Mexico, West Coast, Gulf of Alaska, Bering Sea, Aleutian Islands, Hawai’i Islands). These surveys are designed to collect information on the seasonal distribution, relative abundance, and biodiversity of fish and invertebrate species found in U.S. waters. Over 400 species of fish and invertebrates have been identified in these surveys.
Single Fused Map Cache: false
Extent:
XMin: 428349.9584999997
YMin: 3888846.4585000016
XMax: 1278349.9584999997
YMax: 4952846.458500002
Spatial Reference: 102387
(6347)
LatestVCSWkid(0)
Initial Extent:
XMin: 428349.9584999997
YMin: 3888846.4585000016
XMax: 1278349.9584999997
YMax: 4952846.458500002
Spatial Reference: 102387
(6347)
LatestVCSWkid(0)
Full Extent:
XMin: 428349.9584999997
YMin: 3888846.4585000016
XMax: 1278349.9584999997
YMax: 4952846.458500002
Spatial Reference: 102387
(6347)
LatestVCSWkid(0)
Time Info:
Start Time Field: StdTime
End Time Field: StdTime
Time Extent:
[1974/01/01 12:00:00 UTC, 2024/01/01 12:00:00 UTC]
Time Reference:
N/A
Pixel Size X: 2000.0
Pixel Size Y: 2000.0
Band Count: 1
Pixel Type: F32
RasterFunction Infos: {"rasterFunctionInfos": [
{
"name": "None",
"description": "Make a Raster or Raster Dataset into a Function Raster Dataset.",
"help": ""
},
{
"name": "None",
"description": "Make a Raster or Raster Dataset into a Function Raster Dataset.",
"help": ""
}
]}
Mensuration Capabilities: Basic
Inspection Capabilities:
Has Histograms: true
Has Colormap: false
Has Multi Dimensions : true
Rendering Rule:
Min Scale: 0
Max Scale: 0
Copyright Text: These data were produced by NMFS OST.
Service Data Type: esriImageServiceDataTypeGeneric
Min Values: 0
Max Values: 269.1574401855469
Mean Values: 0.056848511316502745
Standard Deviation Values: 0.9184595913215894
Object ID Field:
Fields:
None
Default Mosaic Method: Center
Allowed Mosaic Methods:
SortField:
SortValue: null
Mosaic Operator: First
Default Compression Quality: 75
Default Resampling Method: Bilinear
Max Record Count: null
Max Image Height: 4100
Max Image Width: 15000
Max Download Image Count: null
Max Mosaic Image Count: null
Allow Raster Function: true
Allow Copy: true
Allow Analysis: true
Allow Compute TiePoints: false
Supports Statistics: false
Supports Advanced Queries: false
Use StandardizedQueries: true
Raster Type Infos:
Name: Raster Dataset
Description: Supports all ArcGIS Raster Datasets
Help:
Has Raster Attribute Table: false
Edit Fields Info: null
Ownership Based AccessControl For Rasters: null
Child Resources:
Info
Histograms
Statistics
Key Properties
Legend
Raster Function Infos
Multidimensional Info
Slices
Supported Operations:
Export Image
Identify
Measure
Compute Histograms
Compute Statistics Histograms
Get Samples
Compute Class Statistics
Query Boundary
Compute Pixel Location
Compute Angles
Validate
Project