{
 "currentVersion": 10.91,
 "serviceDescription": "DisMAP/West_Coast_Triennial_1977_to_2004_20220516",
 "name": "DisMAP/West_Coast_Triennial_1977_to_2004_20220516",
 "description": "",
 "extent": {
  "xmin": -3856000,
  "ymin": 1058000,
  "xmax": -3432000,
  "ymax": 2508000,
  "spatialReference": {
   "wkt": "PROJCS[\"WGS_1984_Albers\",GEOGCS[\"GCS_WGS_1984\",DATUM[\"D_WGS_1984\",SPHEROID[\"WGS_1984\",6378137.0,298.257223563]],PRIMEM[\"Greenwich\",0.0],UNIT[\"Degree\",0.0174532925199433]],PROJECTION[\"Albers\"],PARAMETER[\"false_easting\",0.0],PARAMETER[\"false_northing\",0.0],PARAMETER[\"central_meridian\",-78.0],PARAMETER[\"standard_parallel_1\",27.33333333333333],PARAMETER[\"standard_parallel_2\",40.66666666666666],PARAMETER[\"latitude_of_origin\",34.0],UNIT[\"Meter\",1.0]]"
  }
 },
 "initialExtent": {
  "xmin": -3856000,
  "ymin": 1058000,
  "xmax": -3432000,
  "ymax": 2508000,
  "spatialReference": {
   "wkt": "PROJCS[\"WGS_1984_Albers\",GEOGCS[\"GCS_WGS_1984\",DATUM[\"D_WGS_1984\",SPHEROID[\"WGS_1984\",6378137.0,298.257223563]],PRIMEM[\"Greenwich\",0.0],UNIT[\"Degree\",0.0174532925199433]],PROJECTION[\"Albers\"],PARAMETER[\"false_easting\",0.0],PARAMETER[\"false_northing\",0.0],PARAMETER[\"central_meridian\",-78.0],PARAMETER[\"standard_parallel_1\",27.33333333333333],PARAMETER[\"standard_parallel_2\",40.66666666666666],PARAMETER[\"latitude_of_origin\",34.0],UNIT[\"Meter\",1.0]]"
  }
 },
 "fullExtent": {
  "xmin": -3856000,
  "ymin": 1058000,
  "xmax": -3432000,
  "ymax": 2508000,
  "spatialReference": {
   "wkt": "PROJCS[\"WGS_1984_Albers\",GEOGCS[\"GCS_WGS_1984\",DATUM[\"D_WGS_1984\",SPHEROID[\"WGS_1984\",6378137.0,298.257223563]],PRIMEM[\"Greenwich\",0.0],UNIT[\"Degree\",0.0174532925199433]],PROJECTION[\"Albers\"],PARAMETER[\"false_easting\",0.0],PARAMETER[\"false_northing\",0.0],PARAMETER[\"central_meridian\",-78.0],PARAMETER[\"standard_parallel_1\",27.33333333333333],PARAMETER[\"standard_parallel_2\",40.66666666666666],PARAMETER[\"latitude_of_origin\",34.0],UNIT[\"Meter\",1.0]]"
  }
 },
 "hasMultidimensions": true,
 "timeInfo": {
  "startTimeField": "StdTime",
  "endTimeField": "StdTime",
  "timeExtent": [
   220953600000,
   1072944000000
  ],
  "timeReference": null,
  "defaultTimeInterval": 3,
  "defaultTimeIntervalUnits": "esriTimeUnitsYears"
 },
 "pixelSizeX": 2000,
 "pixelSizeY": 2000,
 "datasetFormat": "Cache/LERC2D",
 "uncompressedSize": 614800,
 "blockWidth": 256,
 "blockHeight": 256,
 "compressionType": "LERC2D",
 "bandNames": [
  "Band_1"
 ],
 "allowCopy": true,
 "allowAnalysis": true,
 "defaultVariable": "",
 "bandCount": 1,
 "noDataValue": 3.4E38,
 "noDataValues": [
  3.4E38
 ],
 "pixelType": "F32",
 "minPixelSize": 0,
 "maxPixelSize": 0,
 "copyrightText": "",
 "serviceDataType": "esriImageServiceDataTypeGeneric",
 "serviceSourceType": "esriImageServiceSourceTypeDataset",
 "minValues": [
  0
 ],
 "maxValues": [
  0.5205625295639038
 ],
 "meanValues": [
  8.829559447570005E-4
 ],
 "stdvValues": [
  0.007833358773337388
 ],
 "objectIdField": "",
 "fields": [],
 "capabilities": "Image,Metadata,Mensuration",
 "defaultMosaicMethod": "Center",
 "allowedMosaicMethods": "",
 "sortField": "",
 "sortValue": null,
 "sortAscending": true,
 "mosaicOperator": "First",
 "defaultCompressionQuality": 75,
 "defaultResamplingMethod": "Bilinear",
 "maxImageHeight": 4100,
 "maxImageWidth": 15000,
 "allowRasterFunction": true,
 "rasterFunctionInfos": [
  {
   "name": "None",
   "description": "Make a Raster or Raster Dataset into a Function Raster Dataset.",
   "help": ""
  }
 ],
 "rasterTypeInfos": [
  {
   "name": "Raster Dataset",
   "description": "Supports all ArcGIS Raster Datasets",
   "help": ""
  }
 ],
 "mensurationCapabilities": "Basic",
 "hasHistograms": true,
 "hasColormap": false,
 "hasRasterAttributeTable": false,
 "minScale": 0,
 "maxScale": 0,
 "exportTilesAllowed": false,
 "supportsStatistics": false,
 "supportsAdvancedQueries": false,
 "editFieldsInfo": null,
 "ownershipBasedAccessControlForRasters": null,
 "allowComputeTiePoints": false,
 "useStandardizedQueries": true,
 "advancedQueryCapabilities": {
  "useStandardizedQueries": true,
  "supportsStatistics": false,
  "supportsOrderBy": false,
  "supportsDistinct": false,
  "supportsPagination": false
 },
 "spatialReference": {
  "wkt": "PROJCS[\"WGS_1984_Albers\",GEOGCS[\"GCS_WGS_1984\",DATUM[\"D_WGS_1984\",SPHEROID[\"WGS_1984\",6378137.0,298.257223563]],PRIMEM[\"Greenwich\",0.0],UNIT[\"Degree\",0.0174532925199433]],PROJECTION[\"Albers\"],PARAMETER[\"false_easting\",0.0],PARAMETER[\"false_northing\",0.0],PARAMETER[\"central_meridian\",-78.0],PARAMETER[\"standard_parallel_1\",27.33333333333333],PARAMETER[\"standard_parallel_2\",40.66666666666666],PARAMETER[\"latitude_of_origin\",34.0],UNIT[\"Meter\",1.0]]"
 }
}
