{
 "currentVersion": 10.91,
 "serviceDescription": "DisMAP/Southeast_US_Summer_20220516",
 "name": "DisMAP/Southeast_US_Summer_20220516",
 "description": "",
 "extent": {
  "xmin": 7958000,
  "ymin": 3042000,
  "xmax": 8220000,
  "ymax": 3950000,
  "spatialReference": {
   "wkt": "PROJCS[\"WGS_1984_Albers_NMSDD\",GEOGCS[\"GCS_WGS_1984\",DATUM[\"D_WGS_1984\",SPHEROID[\"WGS_1984\",6378137.0,298.257223563]],PRIMEM[\"Greenwich\",0.0],UNIT[\"Degree\",0.0174532925199433]],PROJECTION[\"Albers\"],PARAMETER[\"false_easting\",0.0],PARAMETER[\"false_northing\",0.0],PARAMETER[\"central_meridian\",180.0],PARAMETER[\"standard_parallel_1\",-2.0],PARAMETER[\"standard_parallel_2\",49.0],PARAMETER[\"latitude_of_origin\",25.5],UNIT[\"Meter\",1.0]]"
  }
 },
 "initialExtent": {
  "xmin": 7958000,
  "ymin": 3042000,
  "xmax": 8220000,
  "ymax": 3950000,
  "spatialReference": {
   "wkt": "PROJCS[\"WGS_1984_Albers_NMSDD\",GEOGCS[\"GCS_WGS_1984\",DATUM[\"D_WGS_1984\",SPHEROID[\"WGS_1984\",6378137.0,298.257223563]],PRIMEM[\"Greenwich\",0.0],UNIT[\"Degree\",0.0174532925199433]],PROJECTION[\"Albers\"],PARAMETER[\"false_easting\",0.0],PARAMETER[\"false_northing\",0.0],PARAMETER[\"central_meridian\",180.0],PARAMETER[\"standard_parallel_1\",-2.0],PARAMETER[\"standard_parallel_2\",49.0],PARAMETER[\"latitude_of_origin\",25.5],UNIT[\"Meter\",1.0]]"
  }
 },
 "fullExtent": {
  "xmin": 7958000,
  "ymin": 3042000,
  "xmax": 8220000,
  "ymax": 3950000,
  "spatialReference": {
   "wkt": "PROJCS[\"WGS_1984_Albers_NMSDD\",GEOGCS[\"GCS_WGS_1984\",DATUM[\"D_WGS_1984\",SPHEROID[\"WGS_1984\",6378137.0,298.257223563]],PRIMEM[\"Greenwich\",0.0],UNIT[\"Degree\",0.0174532925199433]],PROJECTION[\"Albers\"],PARAMETER[\"false_easting\",0.0],PARAMETER[\"false_northing\",0.0],PARAMETER[\"central_meridian\",180.0],PARAMETER[\"standard_parallel_1\",-2.0],PARAMETER[\"standard_parallel_2\",49.0],PARAMETER[\"latitude_of_origin\",25.5],UNIT[\"Meter\",1.0]]"
  }
 },
 "hasMultidimensions": true,
 "timeInfo": {
  "startTimeField": "StdTime",
  "endTimeField": "StdTime",
  "timeExtent": [
   599634000000,
   1546318800000
  ],
  "timeReference": null,
  "defaultTimeInterval": 1,
  "defaultTimeIntervalUnits": "esriTimeUnitsYears"
 },
 "pixelSizeX": 2000,
 "pixelSizeY": 2000,
 "datasetFormat": "Cache/LERC2D",
 "uncompressedSize": 237896,
 "blockWidth": 256,
 "blockHeight": 256,
 "compressionType": "LERC2D",
 "bandNames": [
  "Band_1"
 ],
 "allowCopy": true,
 "allowAnalysis": true,
 "defaultVariable": "",
 "bandCount": 1,
 "noDataValue": 3.4E38,
 "noDataValues": [
  3.4E38
 ],
 "pixelType": "F32",
 "minPixelSize": 0,
 "maxPixelSize": 0,
 "copyrightText": "",
 "serviceDataType": "esriImageServiceDataTypeGeneric",
 "serviceSourceType": "esriImageServiceSourceTypeDataset",
 "minValues": [
  0
 ],
 "maxValues": [
  8.994857788085938
 ],
 "meanValues": [
  0.026720781748355443
 ],
 "stdvValues": [
  0.12318611869719436
 ],
 "objectIdField": "",
 "fields": [],
 "capabilities": "Image,Metadata,Mensuration",
 "defaultMosaicMethod": "Center",
 "allowedMosaicMethods": "",
 "sortField": "",
 "sortValue": null,
 "sortAscending": true,
 "mosaicOperator": "First",
 "defaultCompressionQuality": 75,
 "defaultResamplingMethod": "Bilinear",
 "maxImageHeight": 4100,
 "maxImageWidth": 15000,
 "allowRasterFunction": true,
 "rasterFunctionInfos": [
  {
   "name": "None",
   "description": "Make a Raster or Raster Dataset into a Function Raster Dataset.",
   "help": ""
  }
 ],
 "rasterTypeInfos": [
  {
   "name": "Raster Dataset",
   "description": "Supports all ArcGIS Raster Datasets",
   "help": ""
  }
 ],
 "mensurationCapabilities": "Basic",
 "hasHistograms": true,
 "hasColormap": false,
 "hasRasterAttributeTable": false,
 "minScale": 0,
 "maxScale": 0,
 "exportTilesAllowed": false,
 "supportsStatistics": false,
 "supportsAdvancedQueries": false,
 "editFieldsInfo": null,
 "ownershipBasedAccessControlForRasters": null,
 "allowComputeTiePoints": false,
 "useStandardizedQueries": true,
 "advancedQueryCapabilities": {
  "useStandardizedQueries": true,
  "supportsStatistics": false,
  "supportsOrderBy": false,
  "supportsDistinct": false,
  "supportsPagination": false
 },
 "spatialReference": {
  "wkt": "PROJCS[\"WGS_1984_Albers_NMSDD\",GEOGCS[\"GCS_WGS_1984\",DATUM[\"D_WGS_1984\",SPHEROID[\"WGS_1984\",6378137.0,298.257223563]],PRIMEM[\"Greenwich\",0.0],UNIT[\"Degree\",0.0174532925199433]],PROJECTION[\"Albers\"],PARAMETER[\"false_easting\",0.0],PARAMETER[\"false_northing\",0.0],PARAMETER[\"central_meridian\",180.0],PARAMETER[\"standard_parallel_1\",-2.0],PARAMETER[\"standard_parallel_2\",49.0],PARAMETER[\"latitude_of_origin\",25.5],UNIT[\"Meter\",1.0]]"
 }
}
