{
 "currentVersion": 11.4,
 "serviceDescription": "NOAA Fisheries and its partners conduct fisheries-independent surveys in 8 regions in the US (Northeast, Southeast, Gulf of Mexico, West Coast, Gulf of Alaska, Bering Sea, Aleutian Islands, Hawai\u2019i Islands). These surveys are designed to collect information on the seasonal distribution, relative abundance, and biodiversity of fish and invertebrate species found in U.S. waters. Over 400 species of fish and invertebrates have been identified in these surveys",
 "name": "DisMAP/NEUS_SPR_IDW_CURRENT",
 "description": "NOAA Fisheries and its partners conduct fisheries-independent surveys in 8 regions in the US (Northeast, Southeast, Gulf of Mexico, West Coast, Gulf of Alaska, Bering Sea, Aleutian Islands, Hawai\u2019i Islands). These surveys are designed to collect information on the seasonal distribution, relative abundance, and biodiversity of fish and invertebrate species found in U.S. waters. Over 400 species of fish and invertebrates have been identified in these surveys",
 "extent": {
  "xmin": 428349.9584999997,
  "ymin": 3888846.4584999997,
  "xmax": 1278349.9584999997,
  "ymax": 4952846.4585,
  "spatialReference": {
   "wkid": 102387,
   "latestWkid": 6347
  }
 },
 "initialExtent": {
  "xmin": 428349.9584999997,
  "ymin": 3888846.4584999997,
  "xmax": 1278349.9584999997,
  "ymax": 4952846.4585,
  "spatialReference": {
   "wkid": 102387,
   "latestWkid": 6347
  }
 },
 "fullExtent": {
  "xmin": 428349.9584999997,
  "ymin": 3888846.4584999997,
  "xmax": 1278349.9584999997,
  "ymax": 4952846.4585,
  "spatialReference": {
   "wkid": 102387,
   "latestWkid": 6347
  }
 },
 "sortableFields": "",
 "bandCount": 1,
 "pixelType": "F32",
 "minValues": [
  0
 ],
 "maxValues": [
  269.1576232910156
 ],
 "meanValues": [
  0.07549297110919934
 ],
 "stdvValues": [
  1.1846814666074563
 ],
 "hasMultidimensions": true,
 "timeInfo": {
  "startTimeField": "StdTime",
  "endTimeField": "StdTime",
  "timeExtent": [
   126273600000,
   1641038400000
  ],
  "timeReference": null,
  "defaultTimeInterval": 365,
  "defaultTimeIntervalUnits": "esriTimeUnitsDays"
 },
 "pixelSizeX": 2000,
 "pixelSizeY": 2000,
 "meanPixelSize": 2000,
 "datasetFormat": "Cache/LERC2D",
 "uncompressedSize": 904400,
 "blockWidth": 256,
 "blockHeight": 256,
 "compressionType": "LERC2D",
 "bandNames": [
  "Band_1"
 ],
 "allowCopy": true,
 "allowAnalysis": true,
 "itemAccess": false,
 "defaultVariable": "",
 "inspectionCapabilities": "",
 "noDataValue": -3.402820018375656E38,
 "noDataValues": [
  -3.402820018375656E38
 ],
 "minPixelSize": 0,
 "maxPixelSize": 0,
 "copyrightText": "These data were produced by NMFS OST in partnership with OceanAdapt at Rutgers University",
 "serviceDataType": "esriImageServiceDataTypeGeneric",
 "serviceSourceType": "esriImageServiceSourceTypeDataset",
 "objectIdField": "",
 "fields": [],
 "capabilities": "Mensuration,Image,Metadata",
 "defaultMosaicMethod": "Center",
 "allowedMosaicMethods": "",
 "sortField": "",
 "sortValue": null,
 "sortAscending": true,
 "mosaicOperator": "First",
 "defaultCompressionQuality": 75,
 "defaultResamplingMethod": "Bilinear",
 "maxImageHeight": 4100,
 "maxImageWidth": 15000,
 "allowRasterFunction": true,
 "rasterFunctionInfos": [
  {
   "name": "None",
   "description": "Make a Raster or Raster Dataset into a Function Raster Dataset.",
   "help": ""
  }
 ],
 "rasterTypeInfos": [
  {
   "name": "Raster Dataset",
   "description": "Supports all ArcGIS Raster Datasets",
   "help": ""
  }
 ],
 "mensurationCapabilities": "Basic",
 "hasHistograms": true,
 "hasColormap": false,
 "hasRasterAttributeTable": false,
 "minScale": 0,
 "maxScale": 0,
 "exportTilesAllowed": false,
 "supportsStatistics": false,
 "supportsAdvancedQueries": false,
 "editFieldsInfo": null,
 "ownershipBasedAccessControlForRasters": null,
 "allowComputeTiePoints": false,
 "useStandardizedQueries": true,
 "advancedQueryCapabilities": {
  "useStandardizedQueries": true,
  "supportsStatistics": false,
  "supportsOrderBy": false,
  "supportsDistinct": false,
  "supportsPagination": false
 },
 "spatialReference": {
  "wkid": 102387,
  "latestWkid": 6347
 },
 "resampling": false
}
