View In:
ArcGIS JavaScript
ArcGIS Online Map Viewer
ArcGIS Earth
ArcMap
View Footprint In:
ArcGIS Online Map Viewer
Service Description: DisMAP/Hawaii_Islands_20221201
Name: DisMAP/Hawaii_Islands_20221201
Description:
Single Fused Map Cache: false
Extent:
XMin: 368047.0717491284
YMin: 2087107.467826644
XMax: 942047.0717491284
YMax: 2466107.467826644
Spatial Reference: 32604
(32604)
Initial Extent:
XMin: 368047.0717491284
YMin: 2087107.467826644
XMax: 942047.0717491284
YMax: 2466107.467826644
Spatial Reference: 32604
(32604)
Full Extent:
XMin: 368047.0717491284
YMin: 2087107.467826644
XMax: 942047.0717491284
YMax: 2466107.467826644
Spatial Reference: 32604
(32604)
Time Info:
Start Time Field: StdTime
End Time Field: StdTime
Time Extent:
[2016/01/01 10:00:00 UTC, 2021/01/01 10:00:00 UTC]
Time Reference:
N/A
Pixel Size X: 500.0
Pixel Size Y: 500.0
Band Count: 1
Pixel Type: F32
RasterFunction Infos: {"rasterFunctionInfos": [{
"name": "None",
"description": "Make a Raster or Raster Dataset into a Function Raster Dataset.",
"help": ""
}]}
Mensuration Capabilities: Basic
Has Histograms: true
Has Colormap: false
Has Multi Dimensions : true
Rendering Rule:
Min Scale: 0
Max Scale: 0
Copyright Text:
Service Data Type: esriImageServiceDataTypeGeneric
Min Values: 0
Max Values: 7
Mean Values: 1.9876705276705307
Standard Deviation Values: 1.5247962060440137
Object ID Field:
Fields:
None
Default Mosaic Method: Center
Allowed Mosaic Methods:
SortField:
SortValue: null
Mosaic Operator: First
Default Compression Quality: 75
Default Resampling Method: Bilinear
Max Record Count: null
Max Image Height: 4100
Max Image Width: 15000
Max Download Image Count: null
Max Mosaic Image Count: null
Allow Raster Function: true
Allow Copy: true
Allow Analysis: true
Allow Compute TiePoints: false
Supports Statistics: false
Supports Advanced Queries: false
Use StandardizedQueries: true
Raster Type Infos:
Name: Raster Dataset
Description: Supports all ArcGIS Raster Datasets
Help:
Has Raster Attribute Table: false
Edit Fields Info: null
Ownership Based AccessControl For Rasters: null
Child Resources:
Info
Histograms
Statistics
Key Properties
Legend
Raster Function Infos
Multidimensional Info
Slices
Supported Operations:
Export Image
Identify
Measure
Compute Histograms
Compute Statistics Histograms
Get Samples
Compute Class Statistics
Query Boundary
Compute Pixel Location
Compute Angles
Validate
Project