View In:
ArcGIS JavaScript
ArcGIS Online Map Viewer
ArcGIS Earth
ArcMap
View Footprint In:
ArcGIS Online Map Viewer
Service Description: These files contain rasterized interpolated biomass distributions for fish and invertebrate species caught in NOAA Fisheries fishery-independent bottom trawl surveys. The distribution maps were produced for the Distribution Mapping and Analysis Portal (DisMAP) project. The distributions were generated from catch-per-unit-effort data from the fisheries bottom trawl surveys. This data set covers 7 regions of the United States: Northeast, Southeast, Gulf of Mexico, West Coast, Eastern Bering Sea, Aleutian Islands, and Gulf of Alaska.
Name: DisMAP/Gulf_of_Mexico_20220516
Description: These files contain rasterized interpolated biomass distributions for fish and invertebrate species caught in NOAA Fisheries fishery-independent bottom trawl surveys. The distribution maps were produced for the Distribution Mapping and Analysis Portal (DisMAP) project. The distributions were generated from catch-per-unit-effort data from the fisheries bottom trawl surveys. This data set covers 7 regions of the United States: Northeast, Southeast, Gulf of Mexico, West Coast, Eastern Bering Sea, Aleutian Islands, and Gulf of Alaska.
Single Fused Map Cache: false
Extent:
XMin: 7050000
YMin: 1964000
XMax: 8320000
YMax: 3012000
Spatial Reference: PROJCS["WGS_1984_Albers_NMSDD",GEOGCS["GCS_WGS_1984",DATUM["D_WGS_1984",SPHEROID["WGS_1984",6378137.0,298.257223563]],PRIMEM["Greenwich",0.0],UNIT["Degree",0.0174532925199433]],PROJECTION["Albers"],PARAMETER["false_easting",0.0],PARAMETER["false_northing",0.0],PARAMETER["central_meridian",180.0],PARAMETER["standard_parallel_1",-2.0],PARAMETER["standard_parallel_2",49.0],PARAMETER["latitude_of_origin",25.5],UNIT["Meter",1.0]]
Initial Extent:
XMin: 7050000
YMin: 1964000
XMax: 8320000
YMax: 3012000
Spatial Reference: PROJCS["WGS_1984_Albers_NMSDD",GEOGCS["GCS_WGS_1984",DATUM["D_WGS_1984",SPHEROID["WGS_1984",6378137.0,298.257223563]],PRIMEM["Greenwich",0.0],UNIT["Degree",0.0174532925199433]],PROJECTION["Albers"],PARAMETER["false_easting",0.0],PARAMETER["false_northing",0.0],PARAMETER["central_meridian",180.0],PARAMETER["standard_parallel_1",-2.0],PARAMETER["standard_parallel_2",49.0],PARAMETER["latitude_of_origin",25.5],UNIT["Meter",1.0]]
Full Extent:
XMin: 7050000
YMin: 1964000
XMax: 8320000
YMax: 3012000
Spatial Reference: PROJCS["WGS_1984_Albers_NMSDD",GEOGCS["GCS_WGS_1984",DATUM["D_WGS_1984",SPHEROID["WGS_1984",6378137.0,298.257223563]],PRIMEM["Greenwich",0.0],UNIT["Degree",0.0174532925199433]],PROJECTION["Albers"],PARAMETER["false_easting",0.0],PARAMETER["false_northing",0.0],PARAMETER["central_meridian",180.0],PARAMETER["standard_parallel_1",-2.0],PARAMETER["standard_parallel_2",49.0],PARAMETER["latitude_of_origin",25.5],UNIT["Meter",1.0]]
Time Info:
Start Time Field: StdTime
End Time Field: StdTime
Time Extent:
[2008/01/01 06:00:00 UTC, 2019/01/01 06:00:00 UTC]
Time Reference:
N/A
Pixel Size X: 2000.0
Pixel Size Y: 2000.0
Band Count: 1
Pixel Type: F32
RasterFunction Infos: {"rasterFunctionInfos": [{
"name": "None",
"description": "Make a Raster or Raster Dataset into a Function Raster Dataset.",
"help": ""
}]}
Mensuration Capabilities: Basic
Has Histograms: true
Has Colormap: false
Has Multi Dimensions : true
Rendering Rule:
Min Scale: 0
Max Scale: 0
Copyright Text: The distribution maps were produced by NMFS OST in partnership with OceanAdapt at Rutgers University
Service Data Type: esriImageServiceDataTypeGeneric
Min Values: 0
Max Values: 0.3794794976711273
Mean Values: 5.600460023634664E-4
Standard Deviation Values: 0.00454607014408717
Object ID Field:
Fields:
None
Default Mosaic Method: Center
Allowed Mosaic Methods:
SortField:
SortValue: null
Mosaic Operator: First
Default Compression Quality: 75
Default Resampling Method: Bilinear
Max Record Count: null
Max Image Height: 4100
Max Image Width: 15000
Max Download Image Count: null
Max Mosaic Image Count: null
Allow Raster Function: true
Allow Copy: true
Allow Analysis: true
Allow Compute TiePoints: false
Supports Statistics: false
Supports Advanced Queries: false
Use StandardizedQueries: true
Raster Type Infos:
Name: Raster Dataset
Description: Supports all ArcGIS Raster Datasets
Help:
Has Raster Attribute Table: false
Edit Fields Info: null
Ownership Based AccessControl For Rasters: null
Child Resources:
Info
Histograms
Statistics
Key Properties
Legend
Raster Function Infos
Multidimensional Info
Slices
Supported Operations:
Export Image
Identify
Measure
Compute Histograms
Compute Statistics Histograms
Get Samples
Compute Class Statistics
Query Boundary
Compute Pixel Location
Compute Angles
Validate
Project