{ "currentVersion": 10.91, "serviceDescription": "

These files contain rasterized interpolated biomass distributions for fish and invertebrate species caught in NOAA Fisheries fishery-independent bottom trawl surveys. The distribution maps were produced for the Distribution Mapping and Analysis Portal (DisMAP) project. The distributions were generated from catch-per-unit-effort data from the fisheries bottom trawl surveys. This data set covers 7 regions of the United States: Northeast, Southeast, Gulf of Mexico, West Coast, Eastern Bering Sea, Aleutian Islands, and Gulf of Alaska.<\/span><\/p><\/div><\/div><\/div>", "name": "DisMAP/Eastern_Bering_Sea_20220516", "description": "

These files contain rasterized interpolated biomass distributions for fish and invertebrate species caught in NOAA Fisheries fishery-independent bottom trawl surveys. The distribution maps were produced for the Distribution Mapping and Analysis Portal (DisMAP) project. The distributions were generated from catch-per-unit-effort data from the fisheries bottom trawl surveys. This data set covers 7 regions of the United States: Northeast, Southeast, Gulf of Mexico, West Coast, Eastern Bering Sea, Aleutian Islands, and Gulf of Alaska.<\/span><\/p><\/div><\/div><\/div>", "extent": { "xmin": -5600000, "ymin": 4514000, "xmax": -4798000, "ymax": 5770000, "spatialReference": {"wkt": "PROJCS[\"WGS_1984_Albers\",GEOGCS[\"GCS_WGS_1984\",DATUM[\"D_WGS_1984\",SPHEROID[\"WGS_1984\",6378137.0,298.257223563]],PRIMEM[\"Greenwich\",0.0],UNIT[\"Degree\",0.0174532925199433]],PROJECTION[\"Albers\"],PARAMETER[\"false_easting\",0.0],PARAMETER[\"false_northing\",0.0],PARAMETER[\"central_meridian\",-78.0],PARAMETER[\"standard_parallel_1\",27.33333333333333],PARAMETER[\"standard_parallel_2\",40.66666666666666],PARAMETER[\"latitude_of_origin\",34.0],UNIT[\"Meter\",1.0]]"} }, "initialExtent": { "xmin": -5600000, "ymin": 4514000, "xmax": -4798000, "ymax": 5770000, "spatialReference": {"wkt": "PROJCS[\"WGS_1984_Albers\",GEOGCS[\"GCS_WGS_1984\",DATUM[\"D_WGS_1984\",SPHEROID[\"WGS_1984\",6378137.0,298.257223563]],PRIMEM[\"Greenwich\",0.0],UNIT[\"Degree\",0.0174532925199433]],PROJECTION[\"Albers\"],PARAMETER[\"false_easting\",0.0],PARAMETER[\"false_northing\",0.0],PARAMETER[\"central_meridian\",-78.0],PARAMETER[\"standard_parallel_1\",27.33333333333333],PARAMETER[\"standard_parallel_2\",40.66666666666666],PARAMETER[\"latitude_of_origin\",34.0],UNIT[\"Meter\",1.0]]"} }, "fullExtent": { "xmin": -5600000, "ymin": 4514000, "xmax": -4798000, "ymax": 5770000, "spatialReference": {"wkt": "PROJCS[\"WGS_1984_Albers\",GEOGCS[\"GCS_WGS_1984\",DATUM[\"D_WGS_1984\",SPHEROID[\"WGS_1984\",6378137.0,298.257223563]],PRIMEM[\"Greenwich\",0.0],UNIT[\"Degree\",0.0174532925199433]],PROJECTION[\"Albers\"],PARAMETER[\"false_easting\",0.0],PARAMETER[\"false_northing\",0.0],PARAMETER[\"central_meridian\",-78.0],PARAMETER[\"standard_parallel_1\",27.33333333333333],PARAMETER[\"standard_parallel_2\",40.66666666666666],PARAMETER[\"latitude_of_origin\",34.0],UNIT[\"Meter\",1.0]]"} }, "hasMultidimensions": true, "timeInfo": { "startTimeField": "StdTime", "endTimeField": "StdTime", "timeExtent": [ 378727200000, 1546333200000 ], "timeReference": null, "defaultTimeInterval": 364.95833333, "defaultTimeIntervalUnits": "esriTimeUnitsDays" }, "pixelSizeX": 2000, "pixelSizeY": 2000, "datasetFormat": "Cache/LERC2D", "uncompressedSize": 1007312, "blockWidth": 256, "blockHeight": 256, "compressionType": "LERC2D", "bandNames": [ "Band_1" ], "allowCopy": true, "allowAnalysis": true, "defaultVariable": "", "bandCount": 1, "noDataValue": 3.4E38, "noDataValues": [ 3.4E38 ], "pixelType": "F32", "minPixelSize": 0, "maxPixelSize": 0, "copyrightText": "The distribution maps were produced by NMFS OST in partnership with OceanAdapt at Rutgers University", "serviceDataType": "esriImageServiceDataTypeGeneric", "serviceSourceType": "esriImageServiceSourceTypeDataset", "minValues": [ 0 ], "maxValues": [ 10.910823822021484 ], "meanValues": [ 0.0010907055085853505 ], "stdvValues": [ 0.04160855927609931 ], "objectIdField": "", "fields": [], "capabilities": "Mensuration,Image,Metadata", "defaultMosaicMethod": "Center", "allowedMosaicMethods": "", "sortField": "", "sortValue": null, "sortAscending": true, "mosaicOperator": "First", "defaultCompressionQuality": 75, "defaultResamplingMethod": "Bilinear", "maxImageHeight": 4100, "maxImageWidth": 15000, "allowRasterFunction": true, "rasterFunctionInfos": [ { "name": "None", "description": "Make a Raster or Raster Dataset into a Function Raster Dataset.", "help": "" } ], "rasterTypeInfos": [ { "name": "Raster Dataset", "description": "Supports all ArcGIS Raster Datasets", "help": "" } ], "mensurationCapabilities": "Basic", "hasHistograms": true, "hasColormap": false, "hasRasterAttributeTable": false, "minScale": 0, "maxScale": 0, "exportTilesAllowed": false, "supportsStatistics": false, "supportsAdvancedQueries": false, "editFieldsInfo": null, "ownershipBasedAccessControlForRasters": null, "allowComputeTiePoints": false, "useStandardizedQueries": true, "advancedQueryCapabilities": { "useStandardizedQueries": true, "supportsStatistics": false, "supportsOrderBy": false, "supportsDistinct": false, "supportsPagination": false }, "spatialReference": {"wkt": "PROJCS[\"WGS_1984_Albers\",GEOGCS[\"GCS_WGS_1984\",DATUM[\"D_WGS_1984\",SPHEROID[\"WGS_1984\",6378137.0,298.257223563]],PRIMEM[\"Greenwich\",0.0],UNIT[\"Degree\",0.0174532925199433]],PROJECTION[\"Albers\"],PARAMETER[\"false_easting\",0.0],PARAMETER[\"false_northing\",0.0],PARAMETER[\"central_meridian\",-78.0],PARAMETER[\"standard_parallel_1\",27.33333333333333],PARAMETER[\"standard_parallel_2\",40.66666666666666],PARAMETER[\"latitude_of_origin\",34.0],UNIT[\"Meter\",1.0]]"} }