<?xml version="1.0" encoding="UTF-8" standalone="no"?>
<metadata xml:lang="en">
<Esri>
<CreaDate>20260824</CreaDate>
<CreaTime>23031700</CreaTime>
<ArcGISFormat>1.0</ArcGISFormat>
<SyncOnce>FALSE</SyncOnce>
<DataProperties>
<itemProps>
<itemName Sync="TRUE">ENBS_IDW_CRF.crf</itemName>
<nativeExtBox>
<westBL Sync="TRUE">-1359085.430300</westBL>
<eastBL Sync="TRUE">-231085.430300</eastBL>
<southBL Sync="TRUE">557292.937500</southBL>
<northBL Sync="TRUE">1805292.937500</northBL>
<exTypeCode Sync="TRUE">1</exTypeCode>
</nativeExtBox>
<imsContentType Sync="FALSE" export="False">001</imsContentType>
</itemProps>
<coordRef>
<type Sync="TRUE">Projected</type>
<geogcsn Sync="TRUE">GCS_North_American_1983</geogcsn>
<csUnits Sync="TRUE">Linear Unit: Meter (1.000000)</csUnits>
<projcsn Sync="TRUE">Albers_Conic_Equal_Area</projcsn>
<peXml Sync="TRUE">&lt;ProjectedCoordinateSystem xsi:type='typens:ProjectedCoordinateSystem' xmlns:xsi='http://www.w3.org/2001/XMLSchema-instance' xmlns:xs='http://www.w3.org/2001/XMLSchema' xmlns:typens='http://www.esri.com/schemas/ArcGIS/3.7.0'&gt;&lt;WKT&gt;PROJCS[&amp;quot;Albers_Conic_Equal_Area&amp;quot;,GEOGCS[&amp;quot;GCS_North_American_1983&amp;quot;,DATUM[&amp;quot;D_North_American_1983&amp;quot;,SPHEROID[&amp;quot;GRS_1980&amp;quot;,6378137.0,298.257222101]],PRIMEM[&amp;quot;Greenwich&amp;quot;,0.0],UNIT[&amp;quot;Degree&amp;quot;,0.0174532925199433]],PROJECTION[&amp;quot;Albers&amp;quot;],PARAMETER[&amp;quot;false_easting&amp;quot;,0.0],PARAMETER[&amp;quot;false_northing&amp;quot;,0.0],PARAMETER[&amp;quot;central_meridian&amp;quot;,-154.0],PARAMETER[&amp;quot;standard_parallel_1&amp;quot;,55.0],PARAMETER[&amp;quot;standard_parallel_2&amp;quot;,65.0],PARAMETER[&amp;quot;latitude_of_origin&amp;quot;,50.0],UNIT[&amp;quot;Meter&amp;quot;,1.0]]&lt;/WKT&gt;&lt;XOrigin&gt;-13752200&lt;/XOrigin&gt;&lt;YOrigin&gt;-8948200&lt;/YOrigin&gt;&lt;XYScale&gt;327482121.21482342&lt;/XYScale&gt;&lt;ZOrigin&gt;-100000&lt;/ZOrigin&gt;&lt;ZScale&gt;10000&lt;/ZScale&gt;&lt;MOrigin&gt;-100000&lt;/MOrigin&gt;&lt;MScale&gt;10000&lt;/MScale&gt;&lt;XYTolerance&gt;0.001&lt;/XYTolerance&gt;&lt;ZTolerance&gt;0.001&lt;/ZTolerance&gt;&lt;MTolerance&gt;0.001&lt;/MTolerance&gt;&lt;HighPrecision&gt;true&lt;/HighPrecision&gt;&lt;/ProjectedCoordinateSystem&gt;</peXml>
</coordRef>
<RasterProperties>
<General>
<PixelDepth Sync="TRUE">32</PixelDepth>
<HasColormap Sync="TRUE">FALSE</HasColormap>
<CompressionType Sync="TRUE">LERC2D</CompressionType>
<NumBands Sync="TRUE">1</NumBands>
<Format Sync="TRUE">Cache/LERC2D</Format>
<HasPyramids Sync="TRUE">TRUE</HasPyramids>
<SourceType Sync="TRUE">continuous</SourceType>
<PixelType Sync="TRUE">floating point</PixelType>
<NoDataValue Sync="TRUE">
</NoDataValue>
</General>
</RasterProperties>
</DataProperties>
<SyncDate>20260824</SyncDate>
<SyncTime>20434800</SyncTime>
<ModDate>20260824</ModDate>
<ModTime>20434800</ModTime>
<scaleRange>
<minScale>150000000</minScale>
<maxScale>5000</maxScale>
</scaleRange>
</Esri>
<mdFileID>gov.noaa.nmfs.inport:80294</mdFileID>
<mdLang>
<languageCode value="eng">
</languageCode>
<countryCode value="USA">
</countryCode>
</mdLang>
<mdChar>
<CharSetCd value="004">
</CharSetCd>
</mdChar>
<mdParentID>gov.noaa.nmfs.inport:66799</mdParentID>
<mdHrLv>
<ScopeCd value="005">
</ScopeCd>
</mdHrLv>
<mdHrLvName>dataset</mdHrLvName>
<mdContact>
<rpIndName>John F Kennedy</rpIndName>
<rpOrgName>NMFS Office of Science and Technology</rpOrgName>
<rpCntInfo>
<cntAddress>
<eMailAdd>john.f.kennedy@noaa.gov</eMailAdd>
</cntAddress>
</rpCntInfo>
<role>
<RoleCd value="011">
</RoleCd>
</role>
</mdContact>
<mdDateSt>20260802</mdDateSt>
<distInfo>
<distTranOps>
<onLineSrc>
<linkage>https://services2.arcgis.com/C8EMgrsFcRFL6LrL/arcgis/rest/services/ENBS_IDW_CRF.crf_20260601/FeatureServer</linkage>
</onLineSrc>
</distTranOps>
<distFormat>
<formatName>ESRI REST Service</formatName>
<formatVer>NOAA Geoplatform</formatVer>
</distFormat>
<distributor>
<distorCont>
<rpIndName>Timothy J Haverland</rpIndName>
<rpOrgName>NMFS Office of Science and Technology</rpOrgName>
<role>
<RoleCd value="005">
</RoleCd>
</role>
<rpCntInfo>
<cntAddress>
<eMailAdd>tim.haverland@noaa.gov</eMailAdd>
</cntAddress>
</rpCntInfo>
</distorCont>
</distributor>
</distInfo>
<dataIdInfo>
<idAbs>&lt;div style='text-align:Left;'&gt;&lt;div&gt;&lt;div&gt;&lt;p&gt;&lt;span&gt;NOAA Fisheries and its partners conduct fisheries-independent surveys in 8 regions in the US (Northeast, Southeast, Gulf of Mexico, West Coast, Gulf of Alaska, Bering Sea, Aleutian Islands, Hawai’i Islands). These surveys are designed to collect information on the seasonal distribution, relative abundance, and biodiversity of fish and invertebrate species found in U.S. waters. Over 400 species of fish and invertebrates have been identified in these surveys.&lt;/span&gt;&lt;/p&gt;&lt;/div&gt;&lt;/div&gt;&lt;/div&gt;</idAbs>
<idCitation>
<resTitle>ENBS_IDW_CURRENT</resTitle>
<date>
<pubDate>2026-06-01T00:00:00</pubDate>
</date>
<presForm>
<PresFormCd Sync="TRUE" value="005">
</PresFormCd>
</presForm>
<citRespParty>
<rpIndName>Timothy J Haverland</rpIndName>
<rpOrgName>NMFS Office of Science and Technology</rpOrgName>
<rpCntInfo>
<cntAddress>
<eMailAdd>tim.haverland@noaa.gov</eMailAdd>
</cntAddress>
</rpCntInfo>
<role>
<RoleCd value="002">
</RoleCd>
</role>
</citRespParty>
</idCitation>
<dataExt>
<exDesc>All US Regions, Hawai'i Islands, Alaska, California Current, Gulf of America, South Atlantic, North Atlantic</exDesc>
<geoEle>
<GeoBndBox esriExtentType="search">
<westBL>170.17549</westBL>
<eastBL>-65.287165</eastBL>
<northBL>66.121499</northBL>
<southBL>24.358866</southBL>
<exTypeCode>1</exTypeCode>
</GeoBndBox>
</geoEle>
<tempEle>
<TempExtent>
<exTemp>
<TM_Instant>
<tmPosition>2026-06-01T00:00:00</tmPosition>
</TM_Instant>
</exTemp>
</TempExtent>
</tempEle>
</dataExt>
<dataExt>
<exDesc>Aleutian Islands Region Biomass Distribution</exDesc>
<geoEle>
<GeoBndBox>
<westBL>170.17549</westBL>
<eastBL>-165.085146</eastBL>
<northBL>58.246827</northBL>
<southBL>48.567479</southBL>
<exTypeCode>1</exTypeCode>
</GeoBndBox>
</geoEle>
<tempEle>
<TempExtent>
<exTemp>
<TM_Instant>
<tmPosition>2026-06-01T00:00:00</tmPosition>
</TM_Instant>
</exTemp>
</TempExtent>
</tempEle>
</dataExt>
<dataExt>
<exDesc>Eastern Bering Sea Region Biomass Distribution</exDesc>
<geoEle>
<GeoBndBox>
<westBL>-179.526097</westBL>
<eastBL>-157.972251</eastBL>
<northBL>63.604209</northBL>
<southBL>53.371444</southBL>
<exTypeCode>1</exTypeCode>
</GeoBndBox>
</geoEle>
<tempEle>
<TempExtent>
<exTemp>
<TM_Instant>
<tmPosition>2026-06-01T00:00:00</tmPosition>
</TM_Instant>
</exTemp>
</TempExtent>
</tempEle>
</dataExt>
<dataExt>
<exDesc>Eastern and Northern Bering Sea Region Biomass Distribution</exDesc>
<geoEle>
<GeoBndBox>
<westBL>-179.526078</westBL>
<eastBL>-157.966752</eastBL>
<northBL>63.604450</northBL>
<southBL>53.371445</southBL>
<exTypeCode>1</exTypeCode>
</GeoBndBox>
</geoEle>
<tempEle>
<TempExtent>
<exTemp>
<TM_Instant>
<tmPosition>2026-06-01T00:00:00</tmPosition>
</TM_Instant>
</exTemp>
</TempExtent>
</tempEle>
</dataExt>
<dataExt>
<exDesc>Gulf of Alaska Region Biomass Distribution</exDesc>
<geoEle>
<GeoBndBox>
<westBL>-173.176252</westBL>
<eastBL>-130.268222</eastBL>
<northBL>60.562805</northBL>
<southBL>52.009837</southBL>
<exTypeCode>1</exTypeCode>
</GeoBndBox>
</geoEle>
<tempEle>
<TempExtent>
<exTemp>
<TM_Instant>
<tmPosition>2026-06-01T00:00:00</tmPosition>
</TM_Instant>
</exTemp>
</TempExtent>
</tempEle>
</dataExt>
<dataExt>
<exDesc>Gulf of Mexico Region Biomass Distribution</exDesc>
<geoEle>
<GeoBndBox>
<westBL>-97.661508</westBL>
<eastBL>-81.424869</eastBL>
<northBL>30.380009</northBL>
<southBL>23.867247</southBL>
<exTypeCode>1</exTypeCode>
</GeoBndBox>
</geoEle>
<tempEle>
<TempExtent>
<exTemp>
<TM_Instant>
<tmPosition>2026-06-01T00:00:00</tmPosition>
</TM_Instant>
</exTemp>
</TempExtent>
</tempEle>
</dataExt>
<dataExt>
<exDesc>Hawai'i Islands Region Biomass Distribution</exDesc>
<geoEle>
<GeoBndBox>
<westBL>-160.278504</westBL>
<eastBL>-154.715448</eastBL>
<northBL>22.298411</northBL>
<southBL>18.831072</southBL>
<exTypeCode>1</exTypeCode>
</GeoBndBox>
</geoEle>
<tempEle>
<TempExtent>
<exTemp>
<TM_Instant>
<tmPosition>2026-06-01T00:00:00</tmPosition>
</TM_Instant>
</exTemp>
</TempExtent>
</tempEle>
</dataExt>
<dataExt>
<exDesc>Northern Bering Sea Region Biomass Distribution</exDesc>
<geoEle>
<GeoBndBox>
<westBL>-176.870839</westBL>
<eastBL>-160.765630</eastBL>
<northBL>65.793695</northBL>
<southBL>59.788822</southBL>
<exTypeCode>1</exTypeCode>
</GeoBndBox>
</geoEle>
<tempEle>
<TempExtent>
<exTemp>
<TM_Instant>
<tmPosition>2026-06-01T00:00:00</tmPosition>
</TM_Instant>
</exTemp>
</TempExtent>
</tempEle>
</dataExt>
<dataExt>
<exDesc>Northeast US Fall Region Biomass Distribution</exDesc>
<geoEle>
<GeoBndBox>
<westBL>-75.866269</westBL>
<eastBL>-65.320899</eastBL>
<northBL>44.681383</northBL>
<southBL>34.854249</southBL>
<exTypeCode>1</exTypeCode>
</GeoBndBox>
</geoEle>
<tempEle>
<TempExtent>
<exTemp>
<TM_Instant>
<tmPosition>2026-06-01T00:00:00</tmPosition>
</TM_Instant>
</exTemp>
</TempExtent>
</tempEle>
</dataExt>
<dataExt>
<exDesc>Northeast US Spring Region Biomass Distribution</exDesc>
<geoEle>
<GeoBndBox>
<westBL>-75.899666</westBL>
<eastBL>-65.317433</eastBL>
<northBL>44.679980</northBL>
<southBL>34.912680</southBL>
<exTypeCode>1</exTypeCode>
</GeoBndBox>
</geoEle>
<tempEle>
<TempExtent>
<exTemp>
<TM_Instant>
<tmPosition>2026-06-01T00:00:00</tmPosition>
</TM_Instant>
</exTemp>
</TempExtent>
</tempEle>
</dataExt>
<dataExt>
<exDesc>Southeast US Fall Region Biomass Distribution</exDesc>
<geoEle>
<GeoBndBox>
<westBL>-81.459742</westBL>
<eastBL>-77.117413</eastBL>
<northBL>34.684389</northBL>
<southBL>28.895601</southBL>
<exTypeCode>1</exTypeCode>
</GeoBndBox>
</geoEle>
<tempEle>
<TempExtent>
<exTemp>
<TM_Instant>
<tmPosition>2026-06-01T00:00:00</tmPosition>
</TM_Instant>
</exTemp>
</TempExtent>
</tempEle>
</dataExt>
<dataExt>
<exDesc>Southeast US Spring Region Biomass Distribution</exDesc>
<geoEle>
<GeoBndBox>
<westBL>-81.463483</westBL>
<eastBL>-75.582626</eastBL>
<northBL>35.350066</northBL>
<southBL>28.662175</southBL>
<exTypeCode>1</exTypeCode>
</GeoBndBox>
</geoEle>
<tempEle>
<TempExtent>
<exTemp>
<TM_Instant>
<tmPosition>2026-06-01T00:00:00</tmPosition>
</TM_Instant>
</exTemp>
</TempExtent>
</tempEle>
</dataExt>
<dataExt>
<exDesc>Southeast US Summer Region Biomass Distribution</exDesc>
<geoEle>
<GeoBndBox>
<westBL>-81.463471</westBL>
<eastBL>-75.594932</eastBL>
<northBL>35.347928</northBL>
<southBL>28.662597</southBL>
<exTypeCode>1</exTypeCode>
</GeoBndBox>
</geoEle>
<tempEle>
<TempExtent>
<exTemp>
<TM_Instant>
<tmPosition>2026-06-01T00:00:00</tmPosition>
</TM_Instant>
</exTemp>
</TempExtent>
</tempEle>
</dataExt>
<dataExt>
<exDesc>West Coast Annual Region Biomass Distribution</exDesc>
<geoEle>
<GeoBndBox>
<westBL>-125.969432</westBL>
<eastBL>-115.026445</eastBL>
<northBL>48.464905</northBL>
<southBL>31.896138</southBL>
<exTypeCode>1</exTypeCode>
</GeoBndBox>
</geoEle>
<tempEle>
<TempExtent>
<exTemp>
<TM_Instant>
<tmPosition>2026-06-01T00:00:00</tmPosition>
</TM_Instant>
</exTemp>
</TempExtent>
</tempEle>
</dataExt>
<dataExt>
<exDesc>West Coast Triennial Region Biomass Distribution</exDesc>
<geoEle>
<GeoBndBox>
<westBL>-126.527693</westBL>
<eastBL>-121.596188</eastBL>
<northBL>49.023417</northBL>
<southBL>36.210671</southBL>
<exTypeCode>1</exTypeCode>
</GeoBndBox>
</geoEle>
<tempEle>
<TempExtent>
<exTemp>
<TM_Instant>
<tmPosition>2026-06-01T00:00:00</tmPosition>
</TM_Instant>
</exTemp>
</TempExtent>
</tempEle>
</dataExt>
<idPoC>
<rpIndName>Melissa Ann Karp</rpIndName>
<rpOrgName>NMFS Office of Science and Technology</rpOrgName>
<rpCntInfo>
<cntAddress>
<eMailAdd>melissa.karp@noaa.gov</eMailAdd>
</cntAddress>
</rpCntInfo>
<role>
<RoleCd value="007">
</RoleCd>
</role>
</idPoC>
<searchKeys>
<keyword>DisMap</keyword>
</searchKeys>
<themeKeys>
<thesaName>
<resTitle>Global Change Master Directory (GCMD) Science Keywords</resTitle>
<date>
<pubDate>2026-06-01T00:00:00</pubDate>
</date>
</thesaName>
<keyword>Marine species distributions; species range shifts; species persistence and turnover, fishery-independent survey data; EARTH SCIENCE &gt; BIOLOGICAL CLASSIFICATION &gt; ANIMALS/VERTEBRATES &gt; FISH; EARTH SCIENCE &gt; BIOSPHERE &gt; ECOLOGICAL DYNAMICS &gt; SPECIES/POPULATION INTERACTIONS; EARTH SCIENCE &gt; OCEANS &gt; AQUATIC SCIENCES</keyword>
</themeKeys>
<idPurp>These data were created as part of the DisMAP project to enable visualization and analysis of changes in fish and invertebrate distributions. These interpolated biomass layers provide information on the spatial distribution of species caught in the NOAA Fisheries fisheries-independent surveys. Information on species distributions is of paramount importance for understanding and preparing for climate-change impacts, and plays a key role in climate-ready fisheries management.</idPurp>
<idCredit>NMFS Office of Science and Technology, 2026</idCredit>
<resConst>
<Consts>
<useLimit>&lt;div style='text-align:Left;'&gt;&lt;div&gt;&lt;div&gt;&lt;p&gt;&lt;span&gt;***No Warranty*** The user assumes the entire risk related to its use of these data. NMFS is providing these data 'as is' and NMFS disclaims any and all warranties, whether express or implied, including (without limitation) any implied warranties of merchantability or fitness for a particular purpose. No warranty expressed or implied is made regarding the accuracy or utility of the data on any other system or for general or scientific purposes, nor shall the act of distribution constitute any such warranty. It is strongly recommended that careful attention be paid to the contents of the metadata file associated with these data to evaluate dataset limitations, restrictions or intended use. In no event will NMFS be liable to you or to any third party for any direct, indirect, incidental, consequential, special or exemplary damages or lost profit resulting from any use or misuse of these data.&lt;/span&gt;&lt;/p&gt;&lt;/div&gt;&lt;/div&gt;&lt;/div&gt;</useLimit>
</Consts>
</resConst>
<resConst>
<LegConsts>
<useLimit>Data License:
CC0-1.0
Data License URL:
https://creativecommons.org/publicdomain/zero/1.0/
Data License Statement:
These data were produced by NOAA and are not subject to copyright protection in the United States. NOAA waives any potential copyright and related rights in these data worldwide through the Creative Commons Zero 1.0 Universal Public Domain Dedication (CC0-1.0).</useLimit>
</LegConsts>
</resConst>
<resConst>
<SecConsts>
<useLimit>Data License Type
All Internal NOAA Source Data that are appropriate for public release (not classified or controlled unclassified information) should be formally dedicated to the public domain via the Creative Commons 1.0 Universal Public Domain Dedication (CC0-1.0).
For more information, please see the NOAA Open Data Licensing Guidance (NOAA Account required).</useLimit>
<class>
<ClasscationCd value="001">
</ClasscationCd>
</class>
<classSys>FISMA Low</classSys>
</SecConsts>
</resConst>
<dataLang>
<languageCode value="eng">
</languageCode>
<countryCode value="US">
</countryCode>
</dataLang>
<dataChar>
<CharSetCd value="004">
</CharSetCd>
</dataChar>
<spatRpType>
<SpatRepTypCd Sync="TRUE" value="002">
</SpatRepTypCd>
</spatRpType>
<envirDesc Sync="FALSE">Esri ArcGIS 13.7.0.1901</envirDesc>
<idStatus>
<ProgCd value="001">
</ProgCd>
</idStatus>
<resMaint>
<maintFreq>
<MaintFreqCd value="008">
</MaintFreqCd>
</maintFreq>
</resMaint>
<placeKeys>
<thesaName>
<resTitle>Global Change Master Directory (GCMD) Location Keywords</resTitle>
<date>
<pubDate>2026-06-01T00:00:00</pubDate>
</date>
</thesaName>
<keyword>CONTINENT &gt; NORTH AMERICA &gt; UNITED STATES OF AMERICA &gt; ALASKA, CONTINENT &gt; NORTH AMERICA &gt; UNITED STATES OF AMERICA &gt; HAWAII, CONTINENT &gt; NORTH AMERICA &gt; UNITED STATES OF AMERIC &gt; US East Coast, CONTINENT &gt; NORTH AMERICA &gt; UNITED STATES OF AMERIC &gt; US West Coast, OCEAN &gt; PACIFIC OCEAN &gt; NORTH PACIFIC OCEAN &gt; BERING SEA, OCEAN &gt; PACIFIC OCEAN &gt; NORTH PACIFIC OCEAN &gt; GULF OF ALASKA, OCEAN &gt; ATLANTIC OCEAN &gt; NORTH ATLANTIC OCEAN &gt; GULF OF AMERICA</keyword>
</placeKeys>
<tempKeys>
<thesaName>
<resTitle>Global Change Master Directory (GCMD) Temporal Data Resolution Keywords</resTitle>
<date>
<pubDate>2026-06-01T00:00:00</pubDate>
</date>
</thesaName>
<keyword>Annual</keyword>
</tempKeys>
<tpCat>
<TopicCatCd value="002">
</TopicCatCd>
</tpCat>
<tpCat>
<TopicCatCd value="014">
</TopicCatCd>
</tpCat>
</dataIdInfo>
<mdMaint>
<maintFreq>
<MaintFreqCd value="008">
</MaintFreqCd>
</maintFreq>
</mdMaint>
<dqInfo>
<dqScope>
<scpLvl>
<ScopeCd value="005">
</ScopeCd>
</scpLvl>
<scpLvlDesc>
<datasetSet>Quality check for missing features and attributes</datasetSet>
</scpLvlDesc>
</dqScope>
<dataLineage>
<statement>This data was created in May-June 2026 based on the processed survey data. Specific steps in how it was created are detailed in the process steps below.</statement>
<dataSource type="">
<srcDesc>Alaska Fisheries Science Center Bottom Trawl Survey</srcDesc>
<srcCitatn>
<resTitle>NOAA Fisheries Alaska Fisheries Science Center, 2026. Fisheries One Stop Shop Public Data</resTitle>
<date>
<pubDate>2026-06-01T00:00:00</pubDate>
</date>
<citOnlineRes>
<linkage>https://www.fisheries.noaa.gov/foss/f?p=215:28:11659615688681:::::</linkage>
</citOnlineRes>
</srcCitatn>
</dataSource>
<dataSource type="">
<srcDesc>Gulf of America - SEAMAP</srcDesc>
<srcCitatn>
<resTitle>Gulf of America - SEAMAP</resTitle>
<date>
<pubDate>2026-06-01T00:00:00</pubDate>
</date>
<citOnlineRes>
<linkage>https://seamapdata.gsmfc.org/</linkage>
</citOnlineRes>
</srcCitatn>
</dataSource>
<dataSource type="">
<srcDesc>Southeast US - SEAMAP</srcDesc>
<srcCitatn>
<resTitle>SEAMAP-SA Data Management Work Group. 2026, May, 10. SEAMAP-SA online database</resTitle>
<date>
<pubDate>2026-06-01T00:00:00</pubDate>
</date>
<citOnlineRes>
<linkage>https://pp8.0cb.myftpupload.com/data-portal/</linkage>
</citOnlineRes>
<citRespParty>
<rpIndName>Tracey Smart</rpIndName>
<rpOrgName>SEAMAP-SA Data Management Work Group</rpOrgName>
<role>
<RoleCd value="006">
</RoleCd>
</role>
<rpCntInfo>
<cntAddress>
<eMailAdd>Tracey Smart seamap.org</eMailAdd>
</cntAddress>
</rpCntInfo>
</citRespParty>
</srcCitatn>
</dataSource>
<dataSource type="">
<srcDesc>Northeast Fisheries Science Center Fall Bottom Trawl Survey</srcDesc>
<srcCitatn>
<resTitle>Northeast Fisheries Science Center, 2026: Fall Bottom Trawl Survey</resTitle>
<date>
<pubDate>2026-06-01T00:00:00</pubDate>
</date>
<citOnlineRes>
<linkage>https://www.fisheries.noaa.gov/inport/item/22560</linkage>
</citOnlineRes>
<citRespParty>
<rpIndName>Catherine Foley</rpIndName>
<rpOrgName>NMFS Northeast Fisheries Science Center</rpOrgName>
<role>
<RoleCd value="006">
</RoleCd>
</role>
</citRespParty>
</srcCitatn>
</dataSource>
<dataSource type="">
<srcDesc>Northeast Fisheries Science Center Spring Bottom Trawl Survey</srcDesc>
<srcCitatn>
<resTitle>Northeast Fisheries Science Center, 2026: Spring Bottom Trawl Survey</resTitle>
<date>
<pubDate>2026-06-01T00:00:00</pubDate>
</date>
<citOnlineRes>
<linkage>https://www.fisheries.noaa.gov/inport/item/22561</linkage>
</citOnlineRes>
<citRespParty>
<rpIndName>Catherine Foley</rpIndName>
<rpOrgName>NMFS Northeast Fisheries Science Center</rpOrgName>
<role>
<RoleCd value="006">
</RoleCd>
</role>
</citRespParty>
</srcCitatn>
</dataSource>
<dataSource type="">
<srcDesc>NWFSC Annual Bottom Trawl Survey</srcDesc>
<srcCitatn>
<resTitle>West Coast Groundfish Bottom Trawl Survey, NOAA Fisheries, NWFSC/FRAM</resTitle>
<date>
<pubDate>2026-06-01T00:00:00</pubDate>
</date>
<citOnlineRes>
<linkage>https://www.webapps.nwfsc.noaa.gov/data/map</linkage>
</citOnlineRes>
</srcCitatn>
</dataSource>
<dataSource type="">
<srcDesc>PIFSC BFISH survey</srcDesc>
<srcCitatn>
<resTitle>Pacific Islands Fisheries Science Center, 2025: Bottomfish Fishery-Independent Survey in Hawaii (BFISH) - Cooperative Research Fishing Surveys from 2016 to 2023</resTitle>
<date>
<pubDate>2026-06-01T00:00:00</pubDate>
</date>
<citOnlineRes>
<linkage>https://www.fisheries.noaa.gov/inport/item/20969</linkage>
</citOnlineRes>
<citRespParty>
<rpIndName>Ben Richards</rpIndName>
<rpOrgName>Pacific Islands Fisheries Science Center</rpOrgName>
<role>
<RoleCd value="006">
</RoleCd>
</role>
</citRespParty>
</srcCitatn>
</dataSource>
<prcStep>
<stepDesc>The raw survey data was then processed using an R script, which combined the individual files collected for each regional survey into one dataset with standardized names and units across all regions, and removing unnecessary columns. During this processing step, decisions where made to in some cases trim a regions data to either eliminate certain years or strata based on evaluation of survey coverage for those years or strata.</stepDesc>
<stepDateTm>2026-06-01T00:00:00</stepDateTm>
<stepProc>
<rpIndName>Melissa Ann Karp</rpIndName>
<rpOrgName>NMFS Office of Science and Technology</rpOrgName>
<role>
<RoleCd value="007">
</RoleCd>
</role>
<rpCntInfo>
<cntAddress>
<eMailAdd>melissa.karp@noaa.gov</eMailAdd>
</cntAddress>
</rpCntInfo>
</stepProc>
</prcStep>
<prcStep>
<stepDesc>The data was obtained from the above sources as raw survey data. Please refer to the original source for detailed metadata information on each survey.</stepDesc>
<stepDateTm>2026-06-01T00:00:00</stepDateTm>
<stepProc>
<rpIndName>Melissa Ann Karp</rpIndName>
<rpOrgName>NMFS Office of Science and Technology</rpOrgName>
<rpCntInfo>
<cntAddress>
<eMailAdd>melissa.karp@noaa.gov</eMailAdd>
</cntAddress>
</rpCntInfo>
<role>
<RoleCd value="009">
</RoleCd>
</role>
</stepProc>
</prcStep>
</dataLineage>
<report dimension="horizontal" type="DQConcConsis">
<measDesc>no missing features or attributes</measDesc>
<measResult>
<ConResult>
<conSpec>
<resTitle>DisMAP Tech Report</resTitle>
<date>
<pubDate>2026-06-01T00:00:00</pubDate>
</date>
</conSpec>
<conExpl>Reviewed by project staff</conExpl>
<conPass>1</conPass>
</ConResult>
</measResult>
</report>
</dqInfo>
<spatRepInfo>
<Georect>
<numDims>2</numDims>
<axisDimension type="002">
<dimSize>779</dimSize>
<dimResol>
<value Sync="TRUE" uom="m">2000.000000</value>
</dimResol>
</axisDimension>
<axisDimension type="001">
<dimSize>306</dimSize>
<dimResol>
<value Sync="TRUE" uom="m">2000.000000</value>
</dimResol>
</axisDimension>
<cellGeo>
<CellGeoCd Sync="TRUE" value="002">
</CellGeoCd>
</cellGeo>
<ptInPixel>
<PixOrientCd Sync="TRUE" value="001">
</PixOrientCd>
</ptInPixel>
<centerPt>
<pos>-1494985.500000 685297.281300</pos>
</centerPt>
<cornerPts>
<pos>-2273985.500000 379297.281300</pos>
</cornerPts>
<cornerPts>
<pos>-2273985.500000 991297.281300</pos>
</cornerPts>
<cornerPts>
<pos>-715985.500000 991297.281300</pos>
</cornerPts>
<cornerPts>
<pos>-715985.500000 379297.281300</pos>
</cornerPts>
<tranParaAv Sync="TRUE">1</tranParaAv>
<chkPtAv Sync="TRUE">0</chkPtAv>
</Georect>
</spatRepInfo>
<refSysInfo>
<RefSystem dimension="">
<refSysID>
<identCode Sync="TRUE" code="0">
</identCode>
</refSysID>
</RefSystem>
</refSysInfo>
<contInfo>
<ImgDesc>
<contentTyp>
<ContentTypCd Sync="TRUE" value="001">
</ContentTypCd>
</contentTyp>
<covDim>
<Band>
<maxVal>197.104004</maxVal>
<valUnit>
<UOM type="length">
</UOM>
</valUnit>
<bitsPerVal>32</bitsPerVal>
<dimDescrp Sync="TRUE">Band_1</dimDescrp>
<minVal Sync="TRUE">0.000000</minVal>
</Band>
</covDim>
</ImgDesc>
</contInfo>
<eainfo>
<detailed Name="Fish and Invertebrate Interpolated Biomass Distribution Surfaces Table 20260601">
<enttyp>
<enttypl Sync="TRUE">DisMAP_Regions</enttypl>
<enttypt Sync="TRUE">Feature Class</enttypt>
<enttypc Sync="TRUE">0</enttypc>
</enttyp>
<attr>
<attrlabl Sync="TRUE">OBJECTID</attrlabl>
<attalias Sync="TRUE">OBJECTID</attalias>
<attrtype Sync="TRUE">OID</attrtype>
<attwidth Sync="TRUE">4</attwidth>
<atprecis Sync="TRUE">0</atprecis>
<attscale Sync="TRUE">0</attscale>
